BEGIN:VCALENDAR
VERSION:2.0
PRODID:-//Tukios.com/
BEGIN:VEVENT
UID:fffe570b-35dd-461f-803e-6c23b2b613ea@www.ungerhorner.com
DTSTAMP:20260419T121657Z
DTSTART:20260416T140000Z
DTEND:20260416T160000Z
SUMMARY:Visitation
DESCRIPTION:
URL:https://www.ungerhorner.com/obituaries/john-schinzer
LOCATION:St. Paul Lutheran Church 1415 10th Ave  Rochelle IL 61068
GEO:41.9307614;-89.077711
END:VEVENT
END:VCALENDAR